View In:
ArcMap
ArcGIS Explorer
ArcGIS JavaScript
Google Earth
View Footprint In:
Google Earth
Service Description:
Map Name: Ortho 2011
Layers:
Description: Ortho 2011 Hybrid Map Service provided by DC GIS, flown on December 28 and 29 of 2011
Copyright Text: Acknowledgment of the DC Geographic Information Systems Program (DC GIS). The District of Columbia Government makes no claims as to the completeness, accuracy or content of any data contained hereon, and makes no representation of any kind, including, but not limited to, the warranty of the accuracy or fitness for a particular use, nor are any such warranties to be implied or inferred with respect to the information or data furnished herein.
Spatial Reference: 26985
Single Fused Map Cache: true
Tile Info:
- Height: 512
- Width: 512
- DPI: 120
- Levels of Detail: (# Levels: 11)
-
Level ID: 0
[Start Tile,
End Tile]
Resolution: 63.500127000254
Scale: 300000
-
Level ID: 1
[Start Tile,
End Tile]
Resolution: 42.3334180001693
Scale: 200000
-
Level ID: 2
[Start Tile,
End Tile]
Resolution: 21.1667090000847
Scale: 100000
-
Level ID: 3
[Start Tile,
End Tile]
Resolution: 10.5833545000423
Scale: 50000
-
Level ID: 4
[Start Tile,
End Tile]
Resolution: 5.29167725002117
Scale: 25000
-
Level ID: 5
[Start Tile,
End Tile]
Resolution: 2.54000508001016
Scale: 12000
-
Level ID: 6
[Start Tile,
End Tile]
Resolution: 1.27000254000508
Scale: 6000
-
Level ID: 7
[Start Tile,
End Tile]
Resolution: 0.63500127000254
Scale: 3000
-
Level ID: 8
[Start Tile,
End Tile]
Resolution: 0.31750063500127
Scale: 1500
-
Level ID: 9
[Start Tile,
End Tile]
Resolution: 0.211667090000847
Scale: 1000
-
Level ID: 10
[Start Tile,
End Tile]
Resolution: 0.105833545000423
Scale: 500
- Format: PNG24
- Compression Quality: 0
-
Origin:
X: 379605.402
Y: 148256.304
- Spatial Reference: 26985
Intial Extent:
XMin: 379088.770154087
YMin: 122945.95701126
XMax: 419241.328293622
YMax: 149454.042988742
Spatial Reference: 26985
Full Extent:
XMin: 388423.495077613
YMin: 122999.999999998
XMax: 409906.603370095
YMax: 149400.000000001
Spatial Reference: 26985
Units: esriMeters
Supported Image Format Types: PNG24,PNG,JPG,DIB,TIFF,EMF,PS,PDF,GIF,SVG,SVGZ,AI
Document Info:
- Title: Ortho 2011
- Author: DCGIS
- Comments: 2011 Orthophoto - Orthoimagery data produced for the District of Columbia on December 28 and 29 of 2011. Due to P-56 area flight restrictions, several sensitive areas were not captured. These areas were filled in with our Ortho 2010. The project area for the 2011 project covers the entire District of Columbia and immediate surrounding area equaling approximately 80 square miles. A single corresponding MrSid image (mg3) was created by mosaicking the 328 ortho tiles together and compressing the image using an 15 to 1 compression ratio. All DC GIS data is stored and exported in Maryland State Plane coordinates NAD 83 meters.
- Subject: Map Service for Ortho 2011
- Category: Aerial Photography
- Keywords: aerial photography, orthophoto, pictometry, District of Columbia
Supported Interfaces:
REST
SOAP
Supported Operations:
Export Map
Identify
Find
Generate KML