View In:
ArcMap
ArcGIS Explorer
ArcGIS JavaScript
Google Earth
Virtual Earth
(terms of use)
View Footprint In:
Google Earth
Service Description:
Map Name: DC Basemap
Layers:
Description: 2010 cached basemap map service provided by DCGIS.
Copyright Text: http://octo.dc.gov/DC/OCTO/Maps+and+Apps/Geospatial+District
Spatial Reference: 102113
Single Fused Map Cache: true
Tile Info:
- Height: 256
- Width: 256
- DPI: 96
- Levels of Detail: (# Levels: 20)
-
Level ID: 0
[Start Tile,
End Tile]
Resolution: 156543.039989205
Scale: 591657550.5
-
Level ID: 1
[Start Tile,
End Tile]
Resolution: 78271.5200078317
Scale: 295828775.3
-
Level ID: 2
[Start Tile,
End Tile]
Resolution: 39135.7599906866
Scale: 147914387.6
-
Level ID: 3
[Start Tile,
End Tile]
Resolution: 19567.880000635
Scale: 73957193.82
-
Level ID: 4
[Start Tile,
End Tile]
Resolution: 9783.9400003175
Scale: 36978596.91
-
Level ID: 5
[Start Tile,
End Tile]
Resolution: 4891.96999883583
Scale: 18489298.45
-
Level ID: 6
[Start Tile,
End Tile]
Resolution: 2445.98499994708
Scale: 9244649.227
-
Level ID: 7
[Start Tile,
End Tile]
Resolution: 1222.99250010583
Scale: 4622324.614
-
Level ID: 8
[Start Tile,
End Tile]
Resolution: 611.496250052917
Scale: 2311162.307
-
Level ID: 9
[Start Tile,
End Tile]
Resolution: 305.748124894166
Scale: 1155581.153
-
Level ID: 10
[Start Tile,
End Tile]
Resolution: 152.8740625
Scale: 577790.5767
-
Level ID: 11
[Start Tile,
End Tile]
Resolution: 76.4370312632292
Scale: 288895.2884
-
Level ID: 12
[Start Tile,
End Tile]
Resolution: 38.2185156316146
Scale: 144447.6442
-
Level ID: 13
[Start Tile,
End Tile]
Resolution: 19.1092578131615
Scale: 72223.82209
-
Level ID: 14
[Start Tile,
End Tile]
Resolution: 9.55462890525781
Scale: 36111.91104
-
Level ID: 15
[Start Tile,
End Tile]
Resolution: 4.77731445262891
Scale: 18055.95552
-
Level ID: 16
[Start Tile,
End Tile]
Resolution: 2.38865722657904
Scale: 9027.977761
-
Level ID: 17
[Start Tile,
End Tile]
Resolution: 1.19432861315723
Scale: 4513.98888
-
Level ID: 18
[Start Tile,
End Tile]
Resolution: 0.597164306578613
Scale: 2256.99444
-
Level ID: 19
[Start Tile,
End Tile]
Resolution: 0.298582153289307
Scale: 1128.49722
- Format: PNG24
- Compression Quality: 0
-
Origin:
X: -20037508.342789
Y: 20037508.342789
- Spatial Reference: 102113
Intial Extent:
XMin: -8597873.89555959
YMin: 4690399.64485362
XMax: -8550039.07989826
YMax: 4722555.58768197
Spatial Reference: 102113
Full Extent:
XMin: -8587691.72583208
YMin: 4690399.64485362
XMax: -8560221.24962577
YMax: 4722555.58768197
Spatial Reference: 102113
Units: esriMeters
Supported Image Format Types: PNG32,PNG24,PNG,JPG,DIB,TIFF,EMF,PS,PDF,GIF,SVG,SVGZ
Document Info:
- Title: DC Basemap Web Mercator (Cached)
- Author: DCGIS
- Comments: http://octo.dc.gov/DC/OCTO/Maps+and+Apps/Geospatial+District
- Subject: Map Service for 2010 cached basemap
- Category: DC Basemap (Cached)
- Keywords:
- AntialiasingMode: Normal
- TextAntialiasingMode: Normal
Supported Interfaces:
REST
SOAP
WMS
Supported Operations:
Export Map
Identify
Find
Generate KML