View In:
ArcMap
ArcGIS Explorer
ArcGIS JavaScript
Google Earth
View Footprint In:
Google Earth
Service Description:
Map Name: DC Basemap
Layers:
Description: 2010 cached basemap map service provided by DCGIS.
Copyright Text: http://octo.dc.gov/DC/OCTO/Maps+and+Apps/Geospatial+District
Spatial Reference: 26985
Single Fused Map Cache: true
Tile Info:
- Height: 512
- Width: 512
- DPI: 120
- Levels of Detail: (# Levels: 11)
-
Level ID: 0
[Start Tile,
End Tile]
Resolution: 63.500127000254
Scale: 300000
-
Level ID: 1
[Start Tile,
End Tile]
Resolution: 42.3334180001693
Scale: 200000
-
Level ID: 2
[Start Tile,
End Tile]
Resolution: 21.1667090000847
Scale: 100000
-
Level ID: 3
[Start Tile,
End Tile]
Resolution: 10.5833545000423
Scale: 50000
-
Level ID: 4
[Start Tile,
End Tile]
Resolution: 5.29167725002117
Scale: 25000
-
Level ID: 5
[Start Tile,
End Tile]
Resolution: 2.54000508001016
Scale: 12000
-
Level ID: 6
[Start Tile,
End Tile]
Resolution: 1.27000254000508
Scale: 6000
-
Level ID: 7
[Start Tile,
End Tile]
Resolution: 0.63500127000254
Scale: 3000
-
Level ID: 8
[Start Tile,
End Tile]
Resolution: 0.31750063500127
Scale: 1500
-
Level ID: 9
[Start Tile,
End Tile]
Resolution: 0.211667090000847
Scale: 1000
-
Level ID: 10
[Start Tile,
End Tile]
Resolution: 0.105833545000423
Scale: 500
- Format: PNG24
- Compression Quality: 0
-
Origin:
X: 379605.402
Y: 148256.304
- Spatial Reference: 26985
Intial Extent:
XMin: 368159.784434054
YMin: 123742.84695
XMax: 428173.175139281
YMax: 148692.63005
Spatial Reference: 26985
Full Extent:
XMin: 387477.530402002
YMin: 123742.84695
XMax: 408855.429171333
YMax: 148692.63005
Spatial Reference: 26985
Units: esriMeters
Supported Image Format Types: PNG32,PNG24,PNG,JPG,DIB,TIFF,EMF,PS,PDF,GIF,SVG,SVGZ
Document Info:
- Title: DC Basemap (Cached)
- Author: DCGIS
- Comments: http://octo.dc.gov/DC/OCTO/Maps+and+Apps/Geospatial+District
- Subject: Map Service for 2010 cached basemap
- Category: DC Basemap (Cached)
- Keywords:
- AntialiasingMode: Normal
- TextAntialiasingMode: Normal
Supported Interfaces:
REST
SOAP
WMS
Supported Operations:
Export Map
Identify
Find
Generate KML