View In:
ArcMap
ArcGIS Explorer
ArcGIS JavaScript
Google Earth
View Footprint In:
Google Earth
Service Description:
Map Name: Layers
Layers:
Description:
Copyright Text:
Spatial Reference: 26985
Single Fused Map Cache: true
Tile Info:
- Height: 512
- Width: 512
- DPI: 120
- Levels of Detail: (# Levels: 11)
-
Level ID: 0
[Start Tile,
End Tile]
Resolution: 63.500127000254
Scale: 300000
-
Level ID: 1
[Start Tile,
End Tile]
Resolution: 42.3334180001693
Scale: 200000
-
Level ID: 2
[Start Tile,
End Tile]
Resolution: 21.1667090000847
Scale: 100000
-
Level ID: 3
[Start Tile,
End Tile]
Resolution: 10.5833545000423
Scale: 50000
-
Level ID: 4
[Start Tile,
End Tile]
Resolution: 5.29167725002117
Scale: 25000
-
Level ID: 5
[Start Tile,
End Tile]
Resolution: 2.54000508001016
Scale: 12000
-
Level ID: 6
[Start Tile,
End Tile]
Resolution: 1.27000254000508
Scale: 6000
-
Level ID: 7
[Start Tile,
End Tile]
Resolution: 0.63500127000254
Scale: 3000
-
Level ID: 8
[Start Tile,
End Tile]
Resolution: 0.31750063500127
Scale: 1500
-
Level ID: 9
[Start Tile,
End Tile]
Resolution: 0.211667090000847
Scale: 1000
-
Level ID: 10
[Start Tile,
End Tile]
Resolution: 0.105833545000423
Scale: 500
- Format: PNG24
- Compression Quality: 0
-
Origin:
X: 379605.402
Y: 148256.304
- Spatial Reference: 26985
Intial Extent:
XMin: 369395.087420339
YMin: 123772.7257
XMax: 429009.462579661
YMax: 148556.6233
Spatial Reference: 26985
Full Extent:
XMin: 388509.10625
YMin: 123772.7257
XMax: 409895.44375
YMax: 148556.6233
Spatial Reference: 26985
Units: esriMeters
Supported Image Format Types: PNG32,PNG24,PNG,JPG,DIB,TIFF,EMF,PS,PDF,GIF,SVG,SVGZ
Document Info:
- Title: 2007 Ortho
- Author: DCGIS
- Comments:
- Subject: Map Service for 2007 Ortho (1 foot), courtesy of Pictometry
- Category: 2007 Ortho (1 foot)
- Keywords: http://octo.dc.gov/DC/OCTO/Maps+and+Apps/Geospatial+District
- AntialiasingMode: None
- TextAntialiasingMode: Force
Supported Interfaces:
REST
SOAP
Supported Operations:
Export Map
Identify
Find
Generate KML